BEGIN:VCALENDAR
VERSION:2.0
PRODID:-//YXC Makerspace - ECPv6.15.11//NONSGML v1.0//EN
CALSCALE:GREGORIAN
METHOD:PUBLISH
X-WR-CALNAME:YXC Makerspace
X-ORIGINAL-URL:https://yxcmakerspace.ca
X-WR-CALDESC:Events for YXC Makerspace
REFRESH-INTERVAL;VALUE=DURATION:PT1H
X-Robots-Tag:noindex
X-PUBLISHED-TTL:PT1H
BEGIN:VTIMEZONE
TZID:America/Edmonton
BEGIN:DAYLIGHT
TZOFFSETFROM:-0700
TZOFFSETTO:-0600
TZNAME:MDT
DTSTART:20230312T090000
END:DAYLIGHT
BEGIN:STANDARD
TZOFFSETFROM:-0600
TZOFFSETTO:-0700
TZNAME:MST
DTSTART:20231105T080000
END:STANDARD
BEGIN:DAYLIGHT
TZOFFSETFROM:-0700
TZOFFSETTO:-0600
TZNAME:MDT
DTSTART:20240310T090000
END:DAYLIGHT
BEGIN:STANDARD
TZOFFSETFROM:-0600
TZOFFSETTO:-0700
TZNAME:MST
DTSTART:20241103T080000
END:STANDARD
BEGIN:DAYLIGHT
TZOFFSETFROM:-0700
TZOFFSETTO:-0600
TZNAME:MDT
DTSTART:20250309T090000
END:DAYLIGHT
BEGIN:STANDARD
TZOFFSETFROM:-0600
TZOFFSETTO:-0700
TZNAME:MST
DTSTART:20251102T080000
END:STANDARD
END:VTIMEZONE
BEGIN:VEVENT
DTSTART;TZID=America/Edmonton:20241123T080000
DTEND;TZID=America/Edmonton:20241123T143000
DTSTAMP:20260420T002240
CREATED:20250905T112655Z
LAST-MODIFIED:20250911T162349Z
UID:1129-1732348800-1732372200@yxcmakerspace.ca
SUMMARY:Hacking for the Holidays
DESCRIPTION:We’re excited to host our Hacking for the Holidays event in the East Kootenays at the YXC Makerspace in Cranbrook\, BC. As part of our 2024 Hacking for the Holidays campaign\, on Saturday\, November 23rd\, we’re going to switch adapt 25 toys to donate to local kids with disabilities. And we need your help to do it!
URL:https://yxcmakerspace.ca/event/hacking-for-the-holidays/
LOCATION:YXC Makerspace\, 131 7 Avenue South\, Cranbrook\, British Columbia\, V1C 2J3\, Canada
ATTACH;FMTTYPE=image/png:https://yxcmakerspace.ca/wp-content/uploads/2025/09/creation-stations-computer-monitors.png
END:VEVENT
END:VCALENDAR